BEGIN:VCALENDAR
VERSION:2.0
PRODID:-//Gold Coast MG Car Club - ECPv5.4.0//NONSGML v1.0//EN
CALSCALE:GREGORIAN
METHOD:PUBLISH
X-WR-CALNAME:Gold Coast MG Car Club
X-ORIGINAL-URL:https://www.goldcoastmgcarclub.com.au
X-WR-CALDESC:Events for Gold Coast MG Car Club
BEGIN:VTIMEZONE
TZID:Australia/Brisbane
BEGIN:STANDARD
TZOFFSETFROM:+1000
TZOFFSETTO:+1000
TZNAME:AEST
DTSTART:20210101T000000
END:STANDARD
END:VTIMEZONE
BEGIN:VEVENT
DTSTART;TZID=Australia/Brisbane:20210131T090000
DTEND;TZID=Australia/Brisbane:20210131T143000
DTSTAMP:20210301T210010
CREATED:20201116T221258Z
LAST-MODIFIED:20210113T021120Z
UID:5440-1612083600-1612103400@www.goldcoastmgcarclub.com.au
SUMMARY:January LSIM Run - 'The Boats & Water Run'
DESCRIPTION:The first LSIM run in 2021 is on Sunday 31 Jan. 2021 starting from Macintosh Park\, on the old GC highway just north of Surfers Paradise ( the Indy pits area). Meet from 0900 for a 0930am start \nThe Morning Tea is bring your own and lunch will be at a Tavern in the Ormeau area. \nConfirmation of attendance to Barry & Marg Beaman  Ph # 0412189784 or 0412788989 or email bazbeaman@inbox.com
URL:https://www.goldcoastmgcarclub.com.au/event/january-lsim-run-the-boats-water-run/
LOCATION:Macintosh Island Park\, Gold Coast Highway\, Surfers Paradise\, Queensland\, 4217\, Australia
CATEGORIES:Midweek Run,Roger Thompson Tray Points event
END:VEVENT
END:VCALENDAR