BEGIN:VCALENDAR
VERSION:2.0
PRODID:-//Gold Coast MG Car Club - ECPv5.4.0//NONSGML v1.0//EN
CALSCALE:GREGORIAN
METHOD:PUBLISH
X-WR-CALNAME:Gold Coast MG Car Club
X-ORIGINAL-URL:https://www.goldcoastmgcarclub.com.au
X-WR-CALDESC:Events for Gold Coast MG Car Club
BEGIN:VTIMEZONE
TZID:Australia/Brisbane
BEGIN:STANDARD
TZOFFSETFROM:+1000
TZOFFSETTO:+1000
TZNAME:AEST
DTSTART:20210101T000000
END:STANDARD
END:VTIMEZONE
BEGIN:VEVENT
DTSTART;TZID=Australia/Brisbane:20210220T080000
DTEND;TZID=Australia/Brisbane:20210220T103000
DTSTAMP:20210301T210044
CREATED:20210113T013710Z
LAST-MODIFIED:20210113T020822Z
UID:5550-1613808000-1613817000@www.goldcoastmgcarclub.com.au
SUMMARY:February Coffee run
DESCRIPTION:Instead of a morning get together\, this is a breafast get together on Saturday 20 February. \nMeet at the Historic River Mill on the Murwillumbah – Nerang Road\, Mount Nathan\, from 8am onwards for our monthly get together over breakfast or a cup of coffee.  \nTo help with catering etc\, please advise your attendance by Monday 15 February\, to Stuart on 0405 402 745 or lesley_stuart@bigpond.com.
URL:https://www.goldcoastmgcarclub.com.au/event/february-coffee-run-2/
LOCATION:Historic Rivermill\, 950 Beaudesert Nerang Rd\, Mount Nathan\, Queensland\, 4211\, Australia
CATEGORIES:Breakfast Run,Roger Thompson Tray Points event
END:VEVENT
END:VCALENDAR